BEGIN:VCALENDAR
VERSION:2.0
PRODID:-//events.getlocalhop.com//localhop-calendar//EN
URL:https://api.getlocalhop.com/calendar?instance=MLBPMBRSXB&series=false
BEGIN:VEVENT
UID:event-instance-MLBPMBRSXB@events.getlocalhop.com
SEQUENCE:0
DTSTAMP:20260421T163252Z
DTSTART:20250119T190000Z
DTEND:20250119T203000Z
SUMMARY:Concert: Boston Edison Band
LOCATION:500 Olde Towne Road Rochester\, MI 48307\, Multipurpose Room
DESCRIPTION:<p>Boston Edison Band plays a mix of old and new rock\, some m
 odern country\, and a little R&amp\;B. Each member brings their own unique
  background to the band. The group is influenced by revolutionary sounds c
 oming out of Detroit and their name was derived from one of the great down
 town areas\, the Boston-Edison Historic District. Come dance along to a mi
 x of musical genres!</p>
URL;VALUE=URI:https://events.getlocalhop.com/concert-boston-edison-band/ev
 ent/GwmEpQabjJ/
END:VEVENT
END:VCALENDAR