BEGIN:VCALENDAR
VERSION:2.0
PRODID:-//events.getlocalhop.com//localhop-calendar//EN
URL:https://api.getlocalhop.com/calendar?instance=LoMmfVcedr&series=false
BEGIN:VEVENT
UID:event-instance-LoMmfVcedr@events.getlocalhop.com
SEQUENCE:0
DTSTAMP:20260424T152604Z
DTSTART:20260520T223000Z
DTEND:20260520T231500Z
SUMMARY:Youth Home Delivery Service Community Conversation
LOCATION:Salem-South Lyon District Library\, 9800 Pontiac Tr South Lyon\, 
 MI 48178
DESCRIPTION:<p>The library has been awarded a $10\,000 grant from the Amer
 ican Library Association that will allow the us to create a home delivery 
 service for children and teens with disabilities. This service will be des
 igned for young patrons in the Salem and South Lyon communities who are un
 able to visit the library because of medical\, developmental\, or sensory 
 needs. We want to hear from the community as we embark on this new service
  initiative.&nbsp\; At this conversation staff will provide information ab
 out the upcoming service and seek input from community members in attendan
 ce. Registration is requested.</p>\n<p>&nbsp\;</p>\n<p>To request accessib
 ility accommodations or if you are not able to join in person but are inte
 rested in providing input please email Tina McIntosh and Sarah Scherdt at 
 youthdepartment@ssldl.info or call 248-437-6431.</p>\n<p><br /><br /></p>
URL;VALUE=URI:https://events.getlocalhop.com/youth-home-delivery-service-c
 ommunity-conversation/event/RFeMx3wzDR/
END:VEVENT
END:VCALENDAR