BEGIN:VCALENDAR
VERSION:2.0
PRODID:-//events.getlocalhop.com//localhop-calendar//EN
URL:https://api.getlocalhop.com/calendar?instance=Lj65VTCMAl&series=false
BEGIN:VEVENT
UID:event-instance-Lj65VTCMAl@events.getlocalhop.com
SEQUENCE:0
DTSTAMP:20260423T122313Z
DTSTART:20241012T170000Z
DTEND:20241012T180000Z
SUMMARY:Improv Workshop for Kids with Lauren Hanna (M)
LOCATION:Manistee County Library\, 95 Maple Street Manistee\, MI 49660\, M
 eeting Room
DESCRIPTION:<p>Children in 2nd through 8th grades are invited to stretch t
 heir improv talents with local legend Lauren Hanna! If your child has an i
 nterest in all things theatre\, this is for them! Sign up today\, space is
  limited.</p>
URL;VALUE=URI:https://events.getlocalhop.com/improv-workshop-for-kids-with
 -lauren-hanna-m/event/9pZ4l6GZ3J/
END:VEVENT
END:VCALENDAR