BEGIN:VCALENDAR
VERSION:2.0
PRODID:-//events.getlocalhop.com//localhop-calendar//EN
URL:https://api.getlocalhop.com/calendar?instance=LWsl7hYEKE&series=false
BEGIN:VEVENT
UID:event-instance-LWsl7hYEKE@events.getlocalhop.com
SEQUENCE:0
DTSTAMP:20260423T032545Z
DTSTART:20240408T170000Z
DTEND:20240408T200000Z
SUMMARY:Livestream: 2024 Total Solar Eclipse: Through the Eyes of NASA
LOCATION:Steinberg Reading Room\, 93 Main Street New Paltz\, NY 12561\, Re
 ading Room
DESCRIPTION:<p>On April 8th the moon will move across the sun creating a f
 ascinating and spectacular solar experience. The library will be livestrea
 ming NASA's <em>2024 Total Solar Eclipse: Through the Eyes of NASA. </em>J
 oin NASA as a total solar eclipse moves across North America on April 8\, 
 2024\, traveling through Mexico\, across the United States from Texas to M
 aine\, and out across Canada&rsquo\;s Atlantic coast. Tune in for live vie
 ws from across the path\, expert commentary\, live demos\, and more.</p>\n
 <p>&nbsp\;</p>\n<p>Please note: The library is currently out of stock on e
 clipse glasses. If we do receive more before April 8th\, they will be avai
 lable the day-of on a first-come first-serve basis.</p>
URL;VALUE=URI:https://events.getlocalhop.com/livestream-2024-total-solar-e
 clipse-through-the-eyes-of-nasa/event/bK9rbYDaeN/
END:VEVENT
END:VCALENDAR