BEGIN:VCALENDAR
VERSION:2.0
PRODID:-//events.getlocalhop.com//localhop-calendar//EN
URL:https://api.getlocalhop.com/calendar?instance=LHL9rsOjYl&series=false
BEGIN:VEVENT
UID:event-instance-LHL9rsOjYl@events.getlocalhop.com
SEQUENCE:0
DTSTAMP:20260420T142254Z
DTSTART;VALUE=DATE:20251224
DTEND;VALUE=DATE:20251225
X-MICROSOFT-CDO-ALLDAYEVENT:TRUE
X-MICROSOFT-MSNCALENDAR-ALLDAYEVENT:TRUE
SUMMARY:Library is Closed for Christmas Eve
LOCATION:Trenton Veterans Memorial Library\, 2790 Westfield Road Trenton\,
  MI 48183
DESCRIPTION:<p>The library is closed today for Christmas Eve.&nbsp\; We wi
 ll reopen Friday\, December 26th at 9:00 a.m.</p>
URL;VALUE=URI:https://events.getlocalhop.com/library-is-closed-for-christm
 as-eve/event/D8TdIFispZ/
END:VEVENT
END:VCALENDAR