BEGIN:VCALENDAR
VERSION:2.0
PRODID:-//events.getlocalhop.com//localhop-calendar//EN
URL:https://api.getlocalhop.com/calendar?instance=LGUlFbk8D5&series=false
BEGIN:VEVENT
UID:event-instance-LGUlFbk8D5@events.getlocalhop.com
SEQUENCE:0
DTSTAMP:20260424T204843Z
DTSTART:20240613T220000Z
DTEND:20240614T000000Z
SUMMARY:Cruel Summer: A Swiftie Celebration
LOCATION:300 West Merrill Street Birmingham\, MI 48009\, lower level
DESCRIPTION:<p>Ages 10-19</p>\n<p>Registration required.</p>\n<p>Are you a
  Swiftie with a Blank Space in your calendar? Do you know her lyrics All T
 oo Well? Make and trade friendship bracelets\, sing along to (Taylor&rsquo
 \;s Version) albums\, play trivia and other games\, and snack on some them
 ed foods. You will be Safe &amp\; Sound in street clothes\, but feel free 
 to dress up as your favorite Taylor Swift era! Are You Red-y for It?</p>
URL;VALUE=URI:https://events.getlocalhop.com/cruel-summer-a-swiftie-celebr
 ation/event/oq171UTvN3/
END:VEVENT
END:VCALENDAR