BEGIN:VCALENDAR
VERSION:2.0
PRODID:-//events.getlocalhop.com//localhop-calendar//EN
URL:https://api.getlocalhop.com/calendar?instance=L8KjwEr9k2&series=false
BEGIN:VEVENT
UID:event-instance-L8KjwEr9k2@events.getlocalhop.com
SEQUENCE:0
DTSTAMP:20260424T223740Z
DTSTART;VALUE=DATE:20250927
DTEND;VALUE=DATE:20250928
X-MICROSOFT-CDO-ALLDAYEVENT:TRUE
X-MICROSOFT-MSNCALENDAR-ALLDAYEVENT:TRUE
SUMMARY:MI Downtown Day
LOCATION:300 E. Nine Mile Rd Ferndale\, MI 48220
DESCRIPTION:<p>The Michigan Downtown Association&rsquo\;s (MDA) sixth annu
 al Downtown Day takes place on <strong>Saturday\, September 27</strong>. &
 nbsp\;This ALL DAY celebration is dedicated to Michigan downtown&rsquo\;s 
 and encourages visitors to support local businesses by shopping\, dining\,
  and enjoying the area&rsquo\;s recreational and cultural attractions.<br 
 /><br /></p>\n<p>We invite you to visit us From 10 a.m. to 2 p.m. at the G
 reen Space next to The dot parking garage to learn about who\, what and wh
 y it is easy to fall in love with Downtown Ferndale.</p>\n<p><strong><br /
 >Local businesses are celebrating by providing in store specials\, discoun
 ts and other activations to celebrate their love for Downtown Ferndale! </
 strong>You can view these details on the event page of by looking at all t
 he listings on the LocalHop calendar.&nbsp\;</p>\n<p><br />❤️ Fall in Love
  with Downtown Ferndale and collect *FREE hearts all around town. Be sure 
 to step inside businesses to find hearts! *while supplies last<br />❤️ Sha
 re your LOVE of Downtown Ferndale on Saturday\, September 27\, 2025\, by l
 ooking for hearts around town and share with us on social media!<br />❤️ E
 xplore downtown by taking a self-guided art walk to see these murals in pe
 rson\, as well as others in Downtown Ferndale through a google map. Click 
 here to view map of locations!<br /><br /><strong><br />Downtown Ferndale 
 is excited to celebrate and everyone to experience the love we all have fo
 r this amazing accredited Main Street community!!</strong></p>
URL;VALUE=URI:https://events.getlocalhop.com/mi-downtown-day/event/jfxUJzH
 mt2/
END:VEVENT
END:VCALENDAR