BEGIN:VCALENDAR
VERSION:2.0
PRODID:-//events.getlocalhop.com//localhop-calendar//EN
URL:https://api.getlocalhop.com/calendar?instance=KiHMtj8l60&series=false
BEGIN:VEVENT
UID:event-instance-KiHMtj8l60@events.getlocalhop.com
SEQUENCE:0
DTSTAMP:20260421T124018Z
DTSTART:20260502T170000Z
DTEND:20260502T190000Z
SUMMARY:Drum Roll Please Bake Sale
LOCATION:Milton Public Library\, 430 E. High St. Milton\, WI 53563
DESCRIPTION:<p>The library&rsquo\;s youth-led drama club\, Drum Roll Pleas
 e\, is hosting a book and bake sale to raise funds for future theater ende
 avors! Treat yourself to a sweet treat and support these creative teens.&n
 bsp\;</p>
URL;VALUE=URI:https://events.getlocalhop.com/drum-roll-please-bake-sale/ev
 ent/F8C8v1ON8q/
END:VEVENT
END:VCALENDAR