BEGIN:VCALENDAR
VERSION:2.0
PRODID:-//events.getlocalhop.com//localhop-calendar//EN
URL:https://api.getlocalhop.com/calendar?instance=KRfBu8p4Rx&series=false
BEGIN:VEVENT
UID:event-instance-KRfBu8p4Rx@events.getlocalhop.com
SEQUENCE:0
DTSTAMP:20260421T162531Z
DTSTART;VALUE=DATE:20230501
DTEND;VALUE=DATE:20230502
X-MICROSOFT-CDO-ALLDAYEVENT:TRUE
X-MICROSOFT-MSNCALENDAR-ALLDAYEVENT:TRUE
SUMMARY:1970's Celebrities and Notables - Photographs by Michael Gold
LOCATION:Gardiner Library\, 133 Farmer's Turnpike Gardiner\, New York 1252
 5 Gardiner\, NY 12525
DESCRIPTION:<p>This photography exhibition of Celebrities and Notables is 
 representative of numerous assignments Michael had been entrusted with ver
 y early in his New York City freelance career photographing famous celebri
 ties and outstanding notables in other important fields. This is the first
  time nearly all of the photos in the show have ever been seen before. <br
  /><br />Michael Gold's career included photography assignments for many p
 ublications including The New York Times Magazine\, Opera News\, Esquire\,
  Fortune\, and the National Lampoon. Michael Gold is also the author of nu
 merous books including <em>Seaweed Dinosaurs &amp\; Other Odd Seaweed Crea
 tures\,</em> <em>Raining delusions: A Catskills Novel</em>\, <em>Campaign 
 Companion</em>\, and <em>Modern American Manners</em>.&nbsp\;</p>
URL;VALUE=URI:https://events.getlocalhop.com/1970s-celebrities-and-notable
 s-photographs-by-michael-gold/event/ByK8F7a9TA/
END:VEVENT
END:VCALENDAR