BEGIN:VCALENDAR
VERSION:2.0
PRODID:-//events.getlocalhop.com//localhop-calendar//EN
URL:https://api.getlocalhop.com/calendar?instance=KEoms4ILOR&series=false
BEGIN:VEVENT
UID:event-instance-KEoms4ILOR@events.getlocalhop.com
SEQUENCE:0
DTSTAMP:20260420T194802Z
DTSTART;VALUE=DATE:20260221
DTEND;VALUE=DATE:20260222
X-MICROSOFT-CDO-ALLDAYEVENT:TRUE
X-MICROSOFT-MSNCALENDAR-ALLDAYEVENT:TRUE
SUMMARY:Teens Read! Winter Reading Registration
LOCATION:Peter White Public Library\, 217 N Front St Marquette\, MI 49855\
 , Teen Zone
DESCRIPTION:<p>Click Register above. Select the number of children you are
  going to register and then complete the registration form as prompted.&nb
 sp\;</p>\n<p>&nbsp\;</p>\n<ul>\n<li>Note- Kids in 6th &amp\; 7th grade hav
 e the option of participating in either Kids Read! or Teens Read! If your 
 child is in 6th or 7th grade and wishes to do the kid program\, you will n
 eed to register them on the Kids Winter Reading Registration instead.</li>
 \n</ul>\n<p>&nbsp\;</p>\n<p><span style=\"text-decoration: underline\;\">I
 nformation about Winter Reading</span></p>\n<ul>\n<li>This winter teens ar
 e reading chance to win 1 of 2 $50 gift cards to either Snowbound Books or
  Blossom Bird Bubble Tea</li>\n<li>The program is for youth in grades 6-12
 </li>\n<li>After registering online\, come to the library during our open 
 hours so your student can pick up their reading log</li>\n<li>Students hav
 e until February 28 to read (or listen) and turn in as many reading logs a
 s they can. For each log turned in\, receive your next reading log and if 
 Amanda is at her desk earn a bonus prize from the prize machine</li>\n</ul
 >\n<p>&nbsp\;</p>\n<p>Questions about this event can be directed to Teen S
 ervices</p>\n<p>906-226-4321 | <a href=\"mailto:apierce@pwpl.info\">apierc
 e@pwpl.info</a>&nbsp\;</p>\n<p>&nbsp\;</p>\n<p>Funded by The Friends of th
 e Peter White Public Library</p>
URL;VALUE=URI:https://events.getlocalhop.com/teens-read-winter-reading-reg
 istration/event/nhaW9S0Myt/
END:VEVENT
END:VCALENDAR