BEGIN:VCALENDAR
VERSION:2.0
PRODID:-//events.getlocalhop.com//localhop-calendar//EN
URL:https://api.getlocalhop.com/calendar?instance=JOfNQn9ugd&series=false
BEGIN:VEVENT
UID:event-instance-JOfNQn9ugd@events.getlocalhop.com
SEQUENCE:0
DTSTAMP:20260421T124453Z
DTSTART:20260324T150000Z
DTEND:20260324T170000Z
SUMMARY:Microsoft Word Intermediate
LOCATION:26300 Evergreen Road Southfield\, MI 48076\, 1st Floor Computer L
 ab
DESCRIPTION:<p>This course builds on basic Microsoft Word skills\, focusin
 g on tools for formatting\, layout customization and document automation. 
 Topics include styles\, headers and footers\, section breaks and working w
 ith tables and graphics. Prior experience with Word&mdash\;or completion o
 f an introductory course&mdash\;is recommended. AS</p>
URL;VALUE=URI:https://events.getlocalhop.com/microsoft-word-intermediate/e
 vent/RhRnOvh0WZ/
END:VEVENT
END:VCALENDAR