BEGIN:VCALENDAR
VERSION:2.0
PRODID:-//events.getlocalhop.com//localhop-calendar//EN
URL:https://api.getlocalhop.com/calendar?instance=JLyGvDBTpS&series=false
BEGIN:VEVENT
UID:event-instance-JLyGvDBTpS@events.getlocalhop.com
SEQUENCE:0
DTSTAMP:20260420T003120Z
DTSTART:20230211T143000Z
DTEND:20230211T153000Z
SUMMARY:Maker Morning: Valentine's Day
LOCATION:Warren Dorothy Busch Library\, 23333 Ryan Rd Warren\, MI 48091
DESCRIPTION:<p>Stop on by for this drop in program to make some Valentine'
 s Day themed crafts! Ages 3-9.</p>
URL;VALUE=URI:https://events.getlocalhop.com/maker-morning-valentines-day/
 event/RYlFvSYfFO/
END:VEVENT
END:VCALENDAR