BEGIN:VCALENDAR
VERSION:2.0
PRODID:-//events.getlocalhop.com//localhop-calendar//EN
URL:https://api.getlocalhop.com/calendar?instance=IjBxTG8QwM&series=false
BEGIN:VEVENT
UID:event-instance-IjBxTG8QwM@events.getlocalhop.com
SEQUENCE:0
DTSTAMP:20260424T090442Z
DTSTART:20210424T180000Z
DTEND:20210424T190000Z
SUMMARY:Downloading eBooks from the Library
LOCATION:300 West Merrill Street Birmingham\, MI 48009\, Virtual
DESCRIPTION:Learn how to access Libby to check out e-books and e-audiobook
 s.\n\nA BPL card is required. Registration is required.\n\nThe Zoom invita
 tion will be emailed to registered attendees a half hour before class.\n\n
 **Please note that you cannot easily view the Zoom class while also using 
 the Libby app on the same mobile device. If you want to follow along in Li
 bby during the class\, the best option is to view the class on a computer 
 while using Libby on your phone.
URL;VALUE=URI:https://events.getlocalhop.com/downloading-ebooks-from-the-l
 ibrary/event/ww6qcBRGvn/
END:VEVENT
END:VCALENDAR