BEGIN:VCALENDAR
VERSION:2.0
PRODID:-//events.getlocalhop.com//localhop-calendar//EN
URL:https://api.getlocalhop.com/calendar?instance=IJZmIQOnff&series=false
BEGIN:VEVENT
UID:event-instance-IJZmIQOnff@events.getlocalhop.com
SEQUENCE:0
DTSTAMP:20260421T041903Z
DTSTART:20241018T180000Z
DTEND:20241018T193000Z
SUMMARY:Chalk Pastels for Adults   (M)
LOCATION:Manistee County Library\, 95 Maple Street Manistee\, MI 49660
DESCRIPTION:<p>This month\, we'll explore artists and art techniques invol
 ving chalk pastels. Learn how to get started with basic blending and drawi
 ng exercises. All tools and equipment are supplied in this workshop intend
 ed for adults.&nbsp\;</p>\n<p>RSVP required. All Manistee County Library e
 vents are open to the public. No library card required.&nbsp\;</p>
URL;VALUE=URI:https://events.getlocalhop.com/chalk-pastels-for-adults-m/ev
 ent/HctRQHBpnU/
END:VEVENT
END:VCALENDAR