BEGIN:VCALENDAR
VERSION:2.0
PRODID:-//events.getlocalhop.com//localhop-calendar//EN
URL:https://api.getlocalhop.com/calendar?instance=IFJS4vwBsq&series=false
BEGIN:VEVENT
UID:event-instance-IFJS4vwBsq@events.getlocalhop.com
SEQUENCE:0
DTSTAMP:20260421T101914Z
DTSTART:20240718T180000Z
DTEND:20240718T190000Z
SUMMARY:Homeschooling Meet-Up: Fall Planning (M)
LOCATION:Manistee County Library\, 95 Maple Street Manistee\, MI 49660
DESCRIPTION:<p>Come plan with other homeschooling parents for the upcoming
  school year. We'll discuss different curriculum options and all the items
  we have available to you at the library.</p>\n<p>Kids welcome!&nbsp\;</p>
 \n<p>If you aren't homeschooling yet but have always thought about it\, fe
 el free to come and get some insight from other moms and dads.</p>\n<p>&nb
 sp\;</p>\n<p>This event is free. Registration is required.&nbsp\;</p>
URL;VALUE=URI:https://events.getlocalhop.com/homeschooling-meetup-fall-pla
 nning-m/event/OmSb9aHDfW/
END:VEVENT
END:VCALENDAR