BEGIN:VCALENDAR
VERSION:2.0
PRODID:-//events.getlocalhop.com//localhop-calendar//EN
URL:https://api.getlocalhop.com/calendar?instance=HyPYKQtUay&series=false
BEGIN:VEVENT
UID:event-instance-HyPYKQtUay@events.getlocalhop.com
SEQUENCE:0
DTSTAMP:20260422T151950Z
DTSTART:20211023T180000Z
DTEND:20211023T190000Z
SUMMARY:The Sporting Events that Changed America
LOCATION:Pontiac Public Library\, 60 East Pike Street Pontiac\, MI 48342\,
  Auditorium
DESCRIPTION:Saturday\, October 23\, 2-3pm\,Auditorium: This enlightening a
 nd enjoyable program will entertain and illuminate sports fans or anyone i
 nterested in American history. It is hosted by Martin Gitlin and is based 
 on his highly acclaimed book titled Powerful Moments in Sports: The Most S
 ignificant Sporting Events in American History. The program features excit
 ing videos of sporting events through more than 100 years that greatly imp
 acted society and/or the sports themselves. This presentation features a l
 ot of fun trivia questions for patrons to ponder as well. A Q&A session fo
 llows. This will be fun and thought-provoking so join in! All ages are wel
 come!
URL;VALUE=URI:https://events.getlocalhop.com/the-sporting-events-that-chan
 ged-america/event/vRbnoJPOeT/
END:VEVENT
END:VCALENDAR