BEGIN:VCALENDAR
VERSION:2.0
PRODID:-//events.getlocalhop.com//localhop-calendar//EN
URL:https://api.getlocalhop.com/calendar?instance=HxYej2eLck&series=false
BEGIN:VEVENT
UID:event-instance-HxYej2eLck@events.getlocalhop.com
SEQUENCE:0
DTSTAMP:20260423T134558Z
DTSTART:20240216T220000Z
DTEND:20240216T224500Z
SUMMARY:Creative Dance for Kids
LOCATION:Johnson City Public Library\, 100 West Millard Street Johnson Cit
 y\, TN 37604\, Jones Meeting Center
DESCRIPTION:<p>Is your preschooler a pure bundle of energy? Children ages 
 4-5 are invited to the Library's Jones Meeting Center for a creative outle
 t in this new weekly program every Friday at 5 p.m. between January 19 and
  March 1. This 30-40 minute movement class is based on age-appropriate dan
 ce\, acting\, and theater movement exercises\, as dance and acrobatics enc
 ourage a child's physical development and reinforce their mind-body connec
 tion. In this movement class\, children can boost their endurance\, coordi
 nation\, range of motion\, sense of balance\, and flexibility. Parents and
  caregivers are encouraged to participate alongside their child.</p>\n<p>&
 nbsp\;</p>\n<p>Space is limited and registration is required.&nbsp\;</p>
URL;VALUE=URI:https://events.getlocalhop.com/creative-dance-for-kids/event
 /m809bQqmJa/
END:VEVENT
END:VCALENDAR