BEGIN:VCALENDAR
VERSION:2.0
PRODID:-//events.getlocalhop.com//localhop-calendar//EN
URL:https://api.getlocalhop.com/calendar?instance=HbclF7WdKX&series=false
BEGIN:VEVENT
UID:event-instance-HbclF7WdKX@events.getlocalhop.com
SEQUENCE:0
DTSTAMP:20260426T025031Z
DTSTART:20170930T160000Z
DTEND:20171001T210000Z
SUMMARY:Used Book Sale
LOCATION:222 E 9 Mile Road Ferndale\, MI 48220
DESCRIPTION:Our Friend's large used book sale. All day both Saturday and S
 unday (12-5pm).
URL;VALUE=URI:https://events.getlocalhop.com/used-book-sale/event/IlN5bvhY
 t3/
END:VEVENT
END:VCALENDAR