BEGIN:VCALENDAR
VERSION:2.0
PRODID:-//events.getlocalhop.com//localhop-calendar//EN
URL:https://api.getlocalhop.com/calendar?instance=HHw6XI4gD2&series=false
BEGIN:VEVENT
UID:event-instance-HHw6XI4gD2@events.getlocalhop.com
SEQUENCE:0
DTSTAMP:20260423T150740Z
DTSTART:20260514T223000Z
DTEND:20260514T233000Z
SUMMARY:Diamond Art Series
LOCATION:Scio Branch Library\, 331 W. Main St. Scio\, OH 43988
DESCRIPTION:<p>Join us for a three-month diamond art series! Each month fe
 atures a new project o create and take home.&nbsp\;</p>\n<p>Projects inclu
 de:&nbsp\;</p>\n<p>May 14th - Hummingbird Keychains</p>\n<p>June 11th - Se
 a Turtle Magnets</p>\n<p>July 9th - Star Magnets</p>\n<p>All dates begin a
 t 6:30pm and take place in the Hugo&rsquo\;s Room in the lower level of th
 e Scio Branch Library. For more information\, please call 740-945-6811.&nb
 sp\;</p>
URL;VALUE=URI:https://events.getlocalhop.com/diamond-art-series/event/mQYf
 BsOkir/
END:VEVENT
END:VCALENDAR