BEGIN:VCALENDAR
VERSION:2.0
PRODID:-//events.getlocalhop.com//localhop-calendar//EN
URL:https://api.getlocalhop.com/calendar?instance=HAOgnx20xV&series=false
BEGIN:VEVENT
UID:event-instance-HAOgnx20xV@events.getlocalhop.com
SEQUENCE:0
DTSTAMP:20260424T133648Z
DTSTART:20230204T183000Z
DTEND:20230204T214500Z
SUMMARY:Game On | How to design your own board game panel
LOCATION:Greenwood Public Library\, 310 S. Meridian Greenwood\, IN 46143
DESCRIPTION:<p>Join our panel of published board game designers for a talk
  on what it is takes to develop your own board game. Carl Klutzke of Indy 
 Tabletop Game Creators will host the discussion with James DuMond\, design
 er of One Small Step\, Adam West of CrossCut Games\, Jim Felli of Devious 
 Weasel Games\, Max Michael of StrataMax Games\, and AJ Lambeth of Kolossal
  Games. Make sure to stay on after the panel discussion to participate in 
 game demonstrations and playtesting of games from the panelists and other 
 members of Indy Tabletop Game Creators.&nbsp\;</p>
URL;VALUE=URI:https://events.getlocalhop.com/game-on-or-how-to-design-your
 -own-board-game-panel/event/uN9VFRmLgO/
END:VEVENT
END:VCALENDAR