BEGIN:VCALENDAR
VERSION:2.0
PRODID:-//events.getlocalhop.com//localhop-calendar//EN
URL:https://api.getlocalhop.com/calendar?instance=HAKKEvWUkj&series=false
BEGIN:VEVENT
UID:event-instance-HAKKEvWUkj@events.getlocalhop.com
SEQUENCE:0
DTSTAMP:20260424T115102Z
DTSTART:20250515T203000Z
DTEND:20250515T220000Z
SUMMARY:Tissue Paper Wreath (B)
LOCATION:Bronson Branch Library\, 207 N. Matteson St. Bronson\, MI 49028
DESCRIPTION:<p>Craft a tissue paper wreath using these simple items\, a ca
 rdboard circle\, tissue paper and glue. Enjoy this craft activity that bri
 ngs a burst of color and creativity to your home decor. Perfect for both s
 pring and summer\, these wreaths can be customized to fit any theme or col
 or scheme.&nbsp\;</p>
URL;VALUE=URI:https://events.getlocalhop.com/tissue-paper-wreath-b/event/0
 HYAyoyIZW/
END:VEVENT
END:VCALENDAR