BEGIN:VCALENDAR
VERSION:2.0
PRODID:-//events.getlocalhop.com//localhop-calendar//EN
URL:https://api.getlocalhop.com/calendar?instance=GVp5c3oDDt&series=false
BEGIN:VEVENT
UID:event-instance-GVp5c3oDDt@events.getlocalhop.com
SEQUENCE:0
DTSTAMP:20260426T025047Z
DTSTART:20190501T133000Z
DTEND:20190501T220000Z
SUMMARY:Used Book Sale
LOCATION:Henry Ford Centennial Library\, 16301 Michigan Avenue Dearborn\, 
 MI 48126
DESCRIPTION:Used books\, DVDs\, CDs\, and more at bargain prices!\n\nAll s
 ale proceeds benefit the Dearborn Public Library.
URL;VALUE=URI:https://events.getlocalhop.com/used-book-sale/event/67yFxtvw
 2l/
END:VEVENT
END:VCALENDAR