BEGIN:VCALENDAR
VERSION:2.0
PRODID:-//events.getlocalhop.com//localhop-calendar//EN
URL:https://api.getlocalhop.com/calendar?instance=GLvpusok0C&series=false
BEGIN:VEVENT
UID:event-instance-GLvpusok0C@events.getlocalhop.com
SEQUENCE:0
DTSTAMP:20260421T081213Z
DTSTART:20231129T223000Z
DTEND:20231129T233000Z
SUMMARY:Library Board Meeting
LOCATION:Utica Public Library\, 7530 Auburn Road Utica\, MI 48317
DESCRIPTION:<p>All library board meetings are open to the public.</p>\n<p>
 *This meeting has been moved from November 15.&nbsp\;</p>
URL;VALUE=URI:https://events.getlocalhop.com/library-board-meeting/event/s
 6QtSiqtur/
END:VEVENT
END:VCALENDAR