BEGIN:VCALENDAR
VERSION:2.0
PRODID:-//events.getlocalhop.com//localhop-calendar//EN
URL:https://api.getlocalhop.com/calendar?instance=G7635HsEDU&series=false
BEGIN:VEVENT
UID:event-instance-G7635HsEDU@events.getlocalhop.com
SEQUENCE:0
DTSTAMP:20260424T031551Z
DTSTART:20181117T180000Z
DTEND:20181117T190000Z
SUMMARY:Creative Writing Workshop
LOCATION:Caro Area District Library\, 840 W. Frank St Caro\, MI 48723\, Co
 mmunity Room
DESCRIPTION:Learn Writing Exercises that are fun and will help with creati
 vity. Fun for everyone. You do not have to like writing to have fun with t
 hese exercises. Registration is not required. Call Christine for questions
  at 673-4329 ext. 108.
URL;VALUE=URI:https://events.getlocalhop.com/creative-writing-workshop/eve
 nt/S55VNXGTuf/
END:VEVENT
END:VCALENDAR