BEGIN:VCALENDAR
VERSION:2.0
PRODID:-//events.getlocalhop.com//localhop-calendar//EN
URL:https://api.getlocalhop.com/calendar?instance=Fs3wr2GWqo&series=false
BEGIN:VEVENT
UID:event-instance-Fs3wr2GWqo@events.getlocalhop.com
SEQUENCE:0
DTSTAMP:20260423T170300Z
DTSTART:20250930T140000Z
DTEND:20250930T170000Z
SUMMARY:Heritage Hunt
LOCATION:Washington District Library\, 380 N. Wilmor Rd. Washington\, IL 6
 1571\, Meeting Room
DESCRIPTION:<p>Are you serious about starting your family history journey?
  Sign up for an hour-long one-on-one genealogy help session at FamilySearc
 h Affiliate Washington District Library with expert\, Shana Kurth. Space i
 s limited!</p>\n<p>Ages: 18+</p>
URL;VALUE=URI:https://events.getlocalhop.com/heritage-hunt/event/UjRsFOUTc
 E/
END:VEVENT
END:VCALENDAR