BEGIN:VCALENDAR
VERSION:2.0
PRODID:-//events.getlocalhop.com//localhop-calendar//EN
URL:https://api.getlocalhop.com/calendar?instance=FgeIyiCI7E&series=false
BEGIN:VEVENT
UID:event-instance-FgeIyiCI7E@events.getlocalhop.com
SEQUENCE:0
DTSTAMP:20260420T105721Z
DTSTART:20260311T180000Z
DTEND:20260311T190000Z
SUMMARY:HYBRID EVENT: Wednesday Afternoon Book Club
LOCATION:Baldwin Public Library\, 300 West Merrill Street Birmingham\, MI 
 48009\, Delos Board Room
DESCRIPTION:<p>2nd Wednesday of the month book club\, with librarian-led d
 iscussion. Our longest running book club\, this group features mostly fict
 ion selections with occasional nonfiction titles. This month's selection i
 s \"Small Mercies\" by Dennis Lehane.</p>\n<p>To join the meeting\, email 
 Adult Services librarians at adult.reference@baldwinlib.org</p>
URL;VALUE=URI:https://events.getlocalhop.com/hybrid-event-wednesday-aftern
 oon-book-club/event/zflAiXXAhq/
END:VEVENT
END:VCALENDAR