BEGIN:VCALENDAR
VERSION:2.0
PRODID:-//events.getlocalhop.com//localhop-calendar//EN
URL:https://api.getlocalhop.com/calendar?instance=Fdkvlh0Sf7&series=false
BEGIN:VEVENT
UID:event-instance-Fdkvlh0Sf7@events.getlocalhop.com
SEQUENCE:0
DTSTAMP:20260425T112109Z
DTSTART:20240826T150000Z
DTEND:20240826T153000Z
SUMMARY:Bryant Branch Alpha Stories (Families)
LOCATION:Bryant Branch Library\, 22100 Michigan Ave. Dearborn\, MI 48124
DESCRIPTION:<p>Toddlers\, preschoolers\, and their families\, join Ms. Kat
 hryn for an exploration of the letters of the alphabet with a series of st
 ories\, songs\, and rhymes. No Registration.</p>
URL;VALUE=URI:https://events.getlocalhop.com/bryant-branch-alpha-stories-f
 amilies/event/xypb6z3EGP/
END:VEVENT
END:VCALENDAR