BEGIN:VCALENDAR
VERSION:2.0
PRODID:-//events.getlocalhop.com//localhop-calendar//EN
URL:https://api.getlocalhop.com/calendar?instance=F8uaSrvmup&series=false
BEGIN:VEVENT
UID:event-instance-F8uaSrvmup@events.getlocalhop.com
SEQUENCE:0
DTSTAMP:20260426T031352Z
DTSTART:20241113T183000Z
DTEND:20241113T200000Z
SUMMARY:DIY Crafternoon - Abstract Squeegee Art
LOCATION:Franklin Public Library\, 9151 West Loomis Road Franklin\, WI 531
 32
DESCRIPTION:<p>Make a unique and fun piece of art using acrylic paint on c
 anvas and a squeegee!</p>\n<p>NEW! A $5 non-refundable supply fee must be 
 paid one week prior to the program to secure your spot. Register online by
  clicking \"View Weblink\" to the right or by calling 414-425-8214.</p>\n<
 p>REGISTRATION BEGINS October 30 at 9am.</p>\n<p>This program is for adult
 s 18+.</p>
URL;VALUE=URI:https://events.getlocalhop.com/diy-crafternoon-abstract-sque
 egee-art/event/7J0ksb6KCk/
END:VEVENT
END:VCALENDAR