BEGIN:VCALENDAR
VERSION:2.0
PRODID:-//events.getlocalhop.com//localhop-calendar//EN
URL:https://api.getlocalhop.com/calendar?instance=F46Lqb84Mq&series=false
BEGIN:VEVENT
UID:event-instance-F46Lqb84Mq@events.getlocalhop.com
SEQUENCE:0
DTSTAMP:20260421T093711Z
DTSTART:20260530T150000Z
DTEND:20260530T154500Z
SUMMARY:Summer Leadership Program Launch
LOCATION:Salem-South Lyon District Library\, 9800 Pontiac Tr South Lyon\, 
 MI 48178
DESCRIPTION:<p>This 45 minute program is for middle and high school volunt
 eers who registered for our Summer Leadership Program. Registered students
  will attend either May 27 or May 30 for the Launch.</p>\n<p>&nbsp\;</p>\n
 <p>Please contact the Youth Department with questions - youthdepartment@ss
 ldl.info or 248-437-6431 and ask for Tina or Sarah.</p>\n<p>&nbsp\;</p>
URL;VALUE=URI:https://events.getlocalhop.com/summer-leadership-program-lau
 nch/event/Ign6FKg3GA/
END:VEVENT
END:VCALENDAR