BEGIN:VCALENDAR
VERSION:2.0
PRODID:-//events.getlocalhop.com//localhop-calendar//EN
URL:https://api.getlocalhop.com/calendar?instance=F1AMmgRq2j&series=false
BEGIN:VEVENT
UID:event-instance-F1AMmgRq2j@events.getlocalhop.com
SEQUENCE:0
DTSTAMP:20260425T025524Z
DTSTART:20240722T210000Z
DTEND:20240722T220000Z
SUMMARY:Geode Geology for Kids 7 & Up (M)
LOCATION:Manistee County Library\, 95 Maple Street Manistee\, MI 49660
DESCRIPTION:<p>What's inside a geode? How do they form? Most importantly\,
  how to you split them open?</p>\n<p>We'll learn basic geode geology\, bre
 ak open our very own\, then explore different types of rocks!</p>\n<p>*Thi
 s program will require the use of hammers. Adult supervision is required.*
 </p>
URL;VALUE=URI:https://events.getlocalhop.com/geode-geology-for-kids-7-and-
 up-m/event/chM1wzH0Ce/
END:VEVENT
END:VCALENDAR