BEGIN:VCALENDAR
VERSION:2.0
PRODID:-//events.getlocalhop.com//localhop-calendar//EN
URL:https://api.getlocalhop.com/calendar?instance=EoC58f5CeB&series=false
BEGIN:VEVENT
UID:event-instance-EoC58f5CeB@events.getlocalhop.com
SEQUENCE:0
DTSTAMP:20260420T133410Z
DTSTART:20210121T203000Z
DTEND:20210121T213000Z
SUMMARY:Writers Reading at the Library with Jennifer Donnelly
LOCATION:Julia L. Butterfield Memorial Library\, 10 Morris Avenue Cold Spr
 ing\, NY 10516
DESCRIPTION:New York Time's bestselling and award-winning YA author Jennif
 er Donnelly will discuss her most recent book\, Poisoned\, [October\, 2020
 ]\, a retelling of the fairytale classic\, Snow White\, that will forever 
 change the way you think about strength\, power\, and the real meaning of 
 \"happily ever after\".   Donnelly has written many books for children\, t
 eens\, and adults\, including historic fiction and retold fairy tales. Her
  novel\, A Northern Light\, as been named one of the top 100 best young ad
 ult books of all time. \nThis live Zoom event is for teens and adults who 
 enjoy YA literature. Registeration is required. You will receive a zoom li
 nk with your registration confirmation.
URL;VALUE=URI:https://events.getlocalhop.com/writers-reading-at-the-librar
 y-with-jennifer-donnelly/event/JKYDxDCKZa/
END:VEVENT
END:VCALENDAR