BEGIN:VCALENDAR
VERSION:2.0
PRODID:-//events.getlocalhop.com//localhop-calendar//EN
URL:https://api.getlocalhop.com/calendar?instance=Encr3MvigM&series=false
BEGIN:VEVENT
UID:event-instance-Encr3MvigM@events.getlocalhop.com
SEQUENCE:0
DTSTAMP:20260421T111149Z
DTSTART:20260314T140000Z
DTEND:20260314T160000Z
SUMMARY:Maple Syrup Fun for Scouts
LOCATION:For-Mar - Dewaters Educational Building\, 5360 Potter Rd. Burton\
 , MI 48509
DESCRIPTION:<p>Scouts will learn the process of making maple syrup in this
  hands-on\, outdoor workshop led by For-Mar Educators. We will learn how t
 o identify sugar maple trees and visit our very own evaporator at the suga
 r shack!</p>\n<p>For Scouts of all ages.</p>\n<p><strong>Cost</strong>: $5
  per scout</p>\n<p><em>Pre-registration for this event is required by 3/13
 /26.&nbsp\;</em></p>
URL;VALUE=URI:https://events.getlocalhop.com/maple-syrup-fun-for-scouts/ev
 ent/aB1eHKHOWG/
END:VEVENT
END:VCALENDAR