BEGIN:VCALENDAR
VERSION:2.0
PRODID:-//events.getlocalhop.com//localhop-calendar//EN
URL:https://api.getlocalhop.com/calendar?instance=EfDjCGpEuo&series=false
BEGIN:VEVENT
UID:event-instance-EfDjCGpEuo@events.getlocalhop.com
SEQUENCE:0
DTSTAMP:20260420T102541Z
DTSTART:20260330T150000Z
DTEND:20260330T160000Z
SUMMARY:Destination Storytime
LOCATION:Foster Coffee Company\, 120 W Hamlin Street Eaton Rapids\, MI 488
 27
DESCRIPTION:<p>Join Ms. Emmy for this Destination Storytime featuring stor
 ies\, songs\, and activities at different locations around our community! 
 Therapy dogs may be present\, too. Stay after to explore and enjoy the spa
 ce while supporting our local businesses.</p>\n<p>&nbsp\;</p>\n<p><em>Inte
 nded for those ages 0-5 and their caregivers.</em></p>\n<p><strong>No libr
 ary card or registration required.&nbsp\;</strong></p>
URL;VALUE=URI:https://events.getlocalhop.com/destination-storytime/event/Y
 1fIpxScrH/
END:VEVENT
END:VCALENDAR