BEGIN:VCALENDAR
VERSION:2.0
PRODID:-//events.getlocalhop.com//localhop-calendar//EN
URL:https://api.getlocalhop.com/calendar?instance=EaepBgLkHO&series=false
BEGIN:VEVENT
UID:event-instance-EaepBgLkHO@events.getlocalhop.com
SEQUENCE:0
DTSTAMP:20260421T152717Z
DTSTART:20240417T170000Z
DTEND:20240417T180000Z
SUMMARY:Environmental Conservation for Homeschoolers (M)
LOCATION:Manistee County Library\, 95 Maple Street Manistee\, MI 49660\, M
 eeting Room
DESCRIPTION:<p>Join us as we learn about the effects of climate change\, a
 s well as what positive change environmental conservation can have on the 
 world around us!</p>\n<p>We'll enjoy a brief talk from passionate conserva
 tionist Pamela Blair\, as well as view student dioramas that help raise aw
 areness to changes in our environment. This program is best suited for age
 s 7 &amp\; up\, though younger siblings are most welcome!</p>\n<p>Afterwar
 ds\, we'll collect supplies to make our own dioramas at home! Students are
  invited to participate by bringing their completed dioramas back to the l
 ibrary to put on display during the last week of April and into May (as ti
 me and space allow).</p>\n<p>Registration is required as space is limited.
  Parents need not register themselves\, just their students. Please visit 
 manisteelibrary.org to sign up today!</p>
URL;VALUE=URI:https://events.getlocalhop.com/environmental-conservation-fo
 r-homeschoolers-m/event/mpMaP5EB25/
END:VEVENT
END:VCALENDAR