BEGIN:VCALENDAR
VERSION:2.0
PRODID:-//events.getlocalhop.com//localhop-calendar//EN
URL:https://api.getlocalhop.com/calendar?instance=DSE9FNwHlR&series=false
BEGIN:VEVENT
UID:event-instance-DSE9FNwHlR@events.getlocalhop.com
SEQUENCE:0
DTSTAMP:20260425T161416Z
DTSTART:20260502T160000Z
DTEND:20260502T210000Z
SUMMARY:Wonder Whale and Fossil Show
LOCATION:Union Grove High School\, 3433 S Colony Ave\, Union Grove\, WI 53
 182\, gymnasium
DESCRIPTION:<p>🐋💫 Don&rsquo\;t miss the Wonder Whale!<br />Walk through 
 a life-sized\, inflatable gray whale\, see whale bones\, explore dinosaur 
 &amp\; ice age mammal fossils\, and dive into hands-on learning at the Uni
 on Grove High School gym!</p>\n<p>No registration required!</p>
URL;VALUE=URI:https://events.getlocalhop.com/wonder-whale-and-fossil-show/
 event/319g5JcMuU/
END:VEVENT
END:VCALENDAR