BEGIN:VCALENDAR
VERSION:2.0
PRODID:-//events.getlocalhop.com//localhop-calendar//EN
URL:https://api.getlocalhop.com/calendar?instance=CkxLBHYFbz&series=false
BEGIN:VEVENT
UID:event-instance-CkxLBHYFbz@events.getlocalhop.com
SEQUENCE:0
DTSTAMP:20260420T232222Z
DTSTART:20250124T190000Z
DTEND:20250124T203000Z
SUMMARY:Winter Watercolors - Adults  (M)
LOCATION:Manistee County Library\, 95 Maple Street Manistee\, MI 49660
DESCRIPTION:<p>Join Chrissy at Manistee Main Library for a fun and beginne
 r-friendly workshop featuring winter landscapes.&nbsp\;</p>\n<p>All equipm
 ent and tools are supplied during this workshop intended for adults. RSVP 
 required.&nbsp\;</p>\n<p>All Manistee County Library programs are free and
  open to the public\, no library card required. Please register here on th
 e website or call 231-723-2519.</p>
URL;VALUE=URI:https://events.getlocalhop.com/winter-watercolors-adults-m/e
 vent/FeAIq2WEfA/
END:VEVENT
END:VCALENDAR