BEGIN:VCALENDAR
VERSION:2.0
PRODID:-//events.getlocalhop.com//localhop-calendar//EN
URL:https://api.getlocalhop.com/calendar?instance=CiaJhSoRYa&series=false
BEGIN:VEVENT
UID:event-instance-CiaJhSoRYa@events.getlocalhop.com
SEQUENCE:0
DTSTAMP:20260422T133716Z
DTSTART:20260424T140000Z
DTEND:20260424T180000Z
SUMMARY:Crochet One on One (1 hour appointment)
LOCATION:9800 Pontiac Trl South Lyon\, MI 48178
DESCRIPTION:<p>Discover the joy of crochet with personalized\, hands-on in
 struction! Whether you&rsquo\;re picking up a crochet hook for the very fi
 rst time or looking to build confidence\, we&rsquo\;ll tailor an hour-long
 \, one-on-one lesson just for you. We&rsquo\;ll teach you the basics\, giv
 ing you the skills to begin a simple project like a scarf.</p>\n<p>All sup
 plies will be provided\, but you&rsquo\;re welcome to bring your own yarn 
 if you prefer.&nbsp\;</p>\n<p><strong>Appointments are geared toward adult
  patrons. To ensure everyone has a chance to request an appointment\, patr
 ons are limited to one\, hour-long appointment per month.</strong></p>
URL;VALUE=URI:https://events.getlocalhop.com/crochet-one-on-one-1-hour-app
 ointment/event/gU18ufBIpe/
END:VEVENT
END:VCALENDAR