BEGIN:VCALENDAR
VERSION:2.0
PRODID:-//events.getlocalhop.com//localhop-calendar//EN
URL:https://api.getlocalhop.com/calendar?instance=CcAkrD6LeL&series=true
BEGIN:VEVENT
UID:event-instance-CcAkrD6LeL@events.getlocalhop.com
SEQUENCE:0
DTSTAMP:20260422T120925Z
DTSTART:20260423T200000Z
DTEND:20260423T213000Z
SUMMARY:Curiosity Cafe
LOCATION:Jasper Public  Library\, 100 3rd Ave. Suite B Jasper\, IN 47546\,
  Programming
DESCRIPTION:<p>Teens and tweens are invited to join us for an afternoon of
  fun! &nbsp\;We rotate through different themes each week. &nbsp\;Activiti
 es include: trivia\, snacks\, games\, competitions\, relays\, and more. &n
 bsp\;Join us for all kinds of excitement! &nbsp\;No registration is requir
 ed.</p>
URL;VALUE=URI:https://events.getlocalhop.com/curiosity-cafe/event/gMzRmTA3
 Lc/
END:VEVENT
BEGIN:VEVENT
UID:event-instance-WBCca7Sw6Q@events.getlocalhop.com
SEQUENCE:0
DTSTAMP:20260422T120925Z
DTSTART:20260430T200000Z
DTEND:20260430T213000Z
SUMMARY:Curiosity Cafe
LOCATION:Jasper Public  Library\, 100 3rd Ave. Suite B Jasper\, IN 47546\,
  Programming
DESCRIPTION:<p>Teens and tweens are invited to join us for an afternoon of
  fun! &nbsp\;We rotate through different themes each week. &nbsp\;Activiti
 es include: trivia\, snacks\, games\, competitions\, relays\, and more. &n
 bsp\;Join us for all kinds of excitement! &nbsp\;No registration is requir
 ed.</p>
URL;VALUE=URI:https://events.getlocalhop.com/curiosity-cafe/event/gMzRmTA3
 Lc/
END:VEVENT
BEGIN:VEVENT
UID:event-instance-pMhOZyG0KL@events.getlocalhop.com
SEQUENCE:0
DTSTAMP:20260422T120925Z
DTSTART:20260507T200000Z
DTEND:20260507T213000Z
SUMMARY:Curiosity Cafe
LOCATION:Jasper Public  Library\, 100 3rd Ave. Suite B Jasper\, IN 47546\,
  Programming
DESCRIPTION:<p>Teens and tweens are invited to join us for an afternoon of
  fun! &nbsp\;We rotate through different themes each week. &nbsp\;Activiti
 es include: trivia\, snacks\, games\, competitions\, relays\, and more. &n
 bsp\;Join us for all kinds of excitement! &nbsp\;No registration is requir
 ed.</p>
URL;VALUE=URI:https://events.getlocalhop.com/curiosity-cafe/event/gMzRmTA3
 Lc/
END:VEVENT
BEGIN:VEVENT
UID:event-instance-TCMeiD9EWV@events.getlocalhop.com
SEQUENCE:0
DTSTAMP:20260422T120925Z
DTSTART:20260514T200000Z
DTEND:20260514T213000Z
SUMMARY:Curiosity Cafe
LOCATION:Jasper Public  Library\, 100 3rd Ave. Suite B Jasper\, IN 47546\,
  Programming
DESCRIPTION:<p>Teens and tweens are invited to join us for an afternoon of
  fun! &nbsp\;We rotate through different themes each week. &nbsp\;Activiti
 es include: trivia\, snacks\, games\, competitions\, relays\, and more. &n
 bsp\;Join us for all kinds of excitement! &nbsp\;No registration is requir
 ed.</p>
URL;VALUE=URI:https://events.getlocalhop.com/curiosity-cafe/event/gMzRmTA3
 Lc/
END:VEVENT
BEGIN:VEVENT
UID:event-instance-a5lDQTrmAy@events.getlocalhop.com
SEQUENCE:0
DTSTAMP:20260422T120925Z
DTSTART:20260521T200000Z
DTEND:20260521T213000Z
SUMMARY:Curiosity Cafe
LOCATION:Jasper Public  Library\, 100 3rd Ave. Suite B Jasper\, IN 47546\,
  Programming
DESCRIPTION:<p>Teens and tweens are invited to join us for an afternoon of
  fun! &nbsp\;We rotate through different themes each week. &nbsp\;Activiti
 es include: trivia\, snacks\, games\, competitions\, relays\, and more. &n
 bsp\;Join us for all kinds of excitement! &nbsp\;No registration is requir
 ed.</p>
URL;VALUE=URI:https://events.getlocalhop.com/curiosity-cafe/event/gMzRmTA3
 Lc/
END:VEVENT
BEGIN:VEVENT
UID:event-instance-jOUOuYcnyL@events.getlocalhop.com
SEQUENCE:0
DTSTAMP:20260422T120925Z
DTSTART:20260806T200000Z
DTEND:20260806T213000Z
SUMMARY:Curiosity Cafe
LOCATION:Jasper Public  Library\, 100 3rd Ave. Suite B Jasper\, IN 47546\,
  Programming
DESCRIPTION:<p>Teens and tweens are invited to join us for an afternoon of
  fun! &nbsp\;We rotate through different themes each week. &nbsp\;Activiti
 es include: trivia\, snacks\, games\, competitions\, relays\, and more. &n
 bsp\;Join us for all kinds of excitement! &nbsp\;No registration is requir
 ed.</p>
URL;VALUE=URI:https://events.getlocalhop.com/curiosity-cafe/event/gMzRmTA3
 Lc/
END:VEVENT
BEGIN:VEVENT
UID:event-instance-CiMKEjNxgm@events.getlocalhop.com
SEQUENCE:0
DTSTAMP:20260422T120925Z
DTSTART:20260813T200000Z
DTEND:20260813T213000Z
SUMMARY:Curiosity Cafe
LOCATION:Jasper Public  Library\, 100 3rd Ave. Suite B Jasper\, IN 47546\,
  Programming
DESCRIPTION:<p>Teens and tweens are invited to join us for an afternoon of
  fun! &nbsp\;We rotate through different themes each week. &nbsp\;Activiti
 es include: trivia\, snacks\, games\, competitions\, relays\, and more. &n
 bsp\;Join us for all kinds of excitement! &nbsp\;No registration is requir
 ed.</p>
URL;VALUE=URI:https://events.getlocalhop.com/curiosity-cafe/event/gMzRmTA3
 Lc/
END:VEVENT
BEGIN:VEVENT
UID:event-instance-8chSQCRnc8@events.getlocalhop.com
SEQUENCE:0
DTSTAMP:20260422T120925Z
DTSTART:20260820T200000Z
DTEND:20260820T213000Z
SUMMARY:Curiosity Cafe
LOCATION:Jasper Public  Library\, 100 3rd Ave. Suite B Jasper\, IN 47546\,
  Programming
DESCRIPTION:<p>Teens and tweens are invited to join us for an afternoon of
  fun! &nbsp\;We rotate through different themes each week. &nbsp\;Activiti
 es include: trivia\, snacks\, games\, competitions\, relays\, and more. &n
 bsp\;Join us for all kinds of excitement! &nbsp\;No registration is requir
 ed.</p>
URL;VALUE=URI:https://events.getlocalhop.com/curiosity-cafe/event/gMzRmTA3
 Lc/
END:VEVENT
BEGIN:VEVENT
UID:event-instance-3kkyC3sYp9@events.getlocalhop.com
SEQUENCE:0
DTSTAMP:20260422T120925Z
DTSTART:20260827T200000Z
DTEND:20260827T213000Z
SUMMARY:Curiosity Cafe
LOCATION:Jasper Public  Library\, 100 3rd Ave. Suite B Jasper\, IN 47546\,
  Programming
DESCRIPTION:<p>Teens and tweens are invited to join us for an afternoon of
  fun! &nbsp\;We rotate through different themes each week. &nbsp\;Activiti
 es include: trivia\, snacks\, games\, competitions\, relays\, and more. &n
 bsp\;Join us for all kinds of excitement! &nbsp\;No registration is requir
 ed.</p>
URL;VALUE=URI:https://events.getlocalhop.com/curiosity-cafe/event/gMzRmTA3
 Lc/
END:VEVENT
BEGIN:VEVENT
UID:event-instance-5hJWkiZOyE@events.getlocalhop.com
SEQUENCE:0
DTSTAMP:20260422T120925Z
DTSTART:20260903T200000Z
DTEND:20260903T213000Z
SUMMARY:Curiosity Cafe
LOCATION:Jasper Public  Library\, 100 3rd Ave. Suite B Jasper\, IN 47546\,
  Programming
DESCRIPTION:<p>Teens and tweens are invited to join us for an afternoon of
  fun! &nbsp\;We rotate through different themes each week. &nbsp\;Activiti
 es include: trivia\, snacks\, games\, competitions\, relays\, and more. &n
 bsp\;Join us for all kinds of excitement! &nbsp\;No registration is requir
 ed.</p>
URL;VALUE=URI:https://events.getlocalhop.com/curiosity-cafe/event/gMzRmTA3
 Lc/
END:VEVENT
BEGIN:VEVENT
UID:event-instance-vxkGHcGsq1@events.getlocalhop.com
SEQUENCE:0
DTSTAMP:20260422T120925Z
DTSTART:20260910T200000Z
DTEND:20260910T213000Z
SUMMARY:Curiosity Cafe
LOCATION:Jasper Public  Library\, 100 3rd Ave. Suite B Jasper\, IN 47546\,
  Programming
DESCRIPTION:<p>Teens and tweens are invited to join us for an afternoon of
  fun! &nbsp\;We rotate through different themes each week. &nbsp\;Activiti
 es include: trivia\, snacks\, games\, competitions\, relays\, and more. &n
 bsp\;Join us for all kinds of excitement! &nbsp\;No registration is requir
 ed.</p>
URL;VALUE=URI:https://events.getlocalhop.com/curiosity-cafe/event/gMzRmTA3
 Lc/
END:VEVENT
BEGIN:VEVENT
UID:event-instance-GC30L6GsaN@events.getlocalhop.com
SEQUENCE:0
DTSTAMP:20260422T120925Z
DTSTART:20260917T200000Z
DTEND:20260917T213000Z
SUMMARY:Curiosity Cafe
LOCATION:Jasper Public  Library\, 100 3rd Ave. Suite B Jasper\, IN 47546\,
  Programming
DESCRIPTION:<p>Teens and tweens are invited to join us for an afternoon of
  fun! &nbsp\;We rotate through different themes each week. &nbsp\;Activiti
 es include: trivia\, snacks\, games\, competitions\, relays\, and more. &n
 bsp\;Join us for all kinds of excitement! &nbsp\;No registration is requir
 ed.</p>
URL;VALUE=URI:https://events.getlocalhop.com/curiosity-cafe/event/gMzRmTA3
 Lc/
END:VEVENT
BEGIN:VEVENT
UID:event-instance-oUhFlVkkuX@events.getlocalhop.com
SEQUENCE:0
DTSTAMP:20260422T120925Z
DTSTART:20260924T200000Z
DTEND:20260924T213000Z
SUMMARY:Curiosity Cafe
LOCATION:Jasper Public  Library\, 100 3rd Ave. Suite B Jasper\, IN 47546\,
  Programming
DESCRIPTION:<p>Teens and tweens are invited to join us for an afternoon of
  fun! &nbsp\;We rotate through different themes each week. &nbsp\;Activiti
 es include: trivia\, snacks\, games\, competitions\, relays\, and more. &n
 bsp\;Join us for all kinds of excitement! &nbsp\;No registration is requir
 ed.</p>
URL;VALUE=URI:https://events.getlocalhop.com/curiosity-cafe/event/gMzRmTA3
 Lc/
END:VEVENT
BEGIN:VEVENT
UID:event-instance-aiH5xN742T@events.getlocalhop.com
SEQUENCE:0
DTSTAMP:20260422T120925Z
DTSTART:20261001T200000Z
DTEND:20261001T213000Z
SUMMARY:Curiosity Cafe
LOCATION:Jasper Public  Library\, 100 3rd Ave. Suite B Jasper\, IN 47546\,
  Programming
DESCRIPTION:<p>Teens and tweens are invited to join us for an afternoon of
  fun! &nbsp\;We rotate through different themes each week. &nbsp\;Activiti
 es include: trivia\, snacks\, games\, competitions\, relays\, and more. &n
 bsp\;Join us for all kinds of excitement! &nbsp\;No registration is requir
 ed.</p>
URL;VALUE=URI:https://events.getlocalhop.com/curiosity-cafe/event/gMzRmTA3
 Lc/
END:VEVENT
BEGIN:VEVENT
UID:event-instance-ZCNlePjGPD@events.getlocalhop.com
SEQUENCE:0
DTSTAMP:20260422T120925Z
DTSTART:20261008T200000Z
DTEND:20261008T213000Z
SUMMARY:Curiosity Cafe
LOCATION:Jasper Public  Library\, 100 3rd Ave. Suite B Jasper\, IN 47546\,
  Programming
DESCRIPTION:<p>Teens and tweens are invited to join us for an afternoon of
  fun! &nbsp\;We rotate through different themes each week. &nbsp\;Activiti
 es include: trivia\, snacks\, games\, competitions\, relays\, and more. &n
 bsp\;Join us for all kinds of excitement! &nbsp\;No registration is requir
 ed.</p>
URL;VALUE=URI:https://events.getlocalhop.com/curiosity-cafe/event/gMzRmTA3
 Lc/
END:VEVENT
BEGIN:VEVENT
UID:event-instance-zd2JcjXOE9@events.getlocalhop.com
SEQUENCE:0
DTSTAMP:20260422T120925Z
DTSTART:20261015T200000Z
DTEND:20261015T213000Z
SUMMARY:Curiosity Cafe
LOCATION:Jasper Public  Library\, 100 3rd Ave. Suite B Jasper\, IN 47546\,
  Programming
DESCRIPTION:<p>Teens and tweens are invited to join us for an afternoon of
  fun! &nbsp\;We rotate through different themes each week. &nbsp\;Activiti
 es include: trivia\, snacks\, games\, competitions\, relays\, and more. &n
 bsp\;Join us for all kinds of excitement! &nbsp\;No registration is requir
 ed.</p>
URL;VALUE=URI:https://events.getlocalhop.com/curiosity-cafe/event/gMzRmTA3
 Lc/
END:VEVENT
BEGIN:VEVENT
UID:event-instance-BFUdE2H0BC@events.getlocalhop.com
SEQUENCE:0
DTSTAMP:20260422T120925Z
DTSTART:20261022T200000Z
DTEND:20261022T213000Z
SUMMARY:Curiosity Cafe
LOCATION:Jasper Public  Library\, 100 3rd Ave. Suite B Jasper\, IN 47546\,
  Programming
DESCRIPTION:<p>Teens and tweens are invited to join us for an afternoon of
  fun! &nbsp\;We rotate through different themes each week. &nbsp\;Activiti
 es include: trivia\, snacks\, games\, competitions\, relays\, and more. &n
 bsp\;Join us for all kinds of excitement! &nbsp\;No registration is requir
 ed.</p>
URL;VALUE=URI:https://events.getlocalhop.com/curiosity-cafe/event/gMzRmTA3
 Lc/
END:VEVENT
BEGIN:VEVENT
UID:event-instance-zeuXDnQbFB@events.getlocalhop.com
SEQUENCE:0
DTSTAMP:20260422T120925Z
DTSTART:20261029T200000Z
DTEND:20261029T213000Z
SUMMARY:Curiosity Cafe
LOCATION:Jasper Public  Library\, 100 3rd Ave. Suite B Jasper\, IN 47546\,
  Programming
DESCRIPTION:<p>Teens and tweens are invited to join us for an afternoon of
  fun! &nbsp\;We rotate through different themes each week. &nbsp\;Activiti
 es include: trivia\, snacks\, games\, competitions\, relays\, and more. &n
 bsp\;Join us for all kinds of excitement! &nbsp\;No registration is requir
 ed.</p>
URL;VALUE=URI:https://events.getlocalhop.com/curiosity-cafe/event/gMzRmTA3
 Lc/
END:VEVENT
BEGIN:VEVENT
UID:event-instance-iuez4kSRTs@events.getlocalhop.com
SEQUENCE:0
DTSTAMP:20260422T120925Z
DTSTART:20261105T210000Z
DTEND:20261105T223000Z
SUMMARY:Curiosity Cafe
LOCATION:Jasper Public  Library\, 100 3rd Ave. Suite B Jasper\, IN 47546\,
  Programming
DESCRIPTION:<p>Teens and tweens are invited to join us for an afternoon of
  fun! &nbsp\;We rotate through different themes each week. &nbsp\;Activiti
 es include: trivia\, snacks\, games\, competitions\, relays\, and more. &n
 bsp\;Join us for all kinds of excitement! &nbsp\;No registration is requir
 ed.</p>
URL;VALUE=URI:https://events.getlocalhop.com/curiosity-cafe/event/gMzRmTA3
 Lc/
END:VEVENT
BEGIN:VEVENT
UID:event-instance-J4V3X0beii@events.getlocalhop.com
SEQUENCE:0
DTSTAMP:20260422T120925Z
DTSTART:20261112T210000Z
DTEND:20261112T223000Z
SUMMARY:Curiosity Cafe
LOCATION:Jasper Public  Library\, 100 3rd Ave. Suite B Jasper\, IN 47546\,
  Programming
DESCRIPTION:<p>Teens and tweens are invited to join us for an afternoon of
  fun! &nbsp\;We rotate through different themes each week. &nbsp\;Activiti
 es include: trivia\, snacks\, games\, competitions\, relays\, and more. &n
 bsp\;Join us for all kinds of excitement! &nbsp\;No registration is requir
 ed.</p>
URL;VALUE=URI:https://events.getlocalhop.com/curiosity-cafe/event/gMzRmTA3
 Lc/
END:VEVENT
BEGIN:VEVENT
UID:event-instance-vsEow5DfzQ@events.getlocalhop.com
SEQUENCE:0
DTSTAMP:20260422T120925Z
DTSTART:20261119T210000Z
DTEND:20261119T223000Z
SUMMARY:Curiosity Cafe
LOCATION:Jasper Public  Library\, 100 3rd Ave. Suite B Jasper\, IN 47546\,
  Programming
DESCRIPTION:<p>Teens and tweens are invited to join us for an afternoon of
  fun! &nbsp\;We rotate through different themes each week. &nbsp\;Activiti
 es include: trivia\, snacks\, games\, competitions\, relays\, and more. &n
 bsp\;Join us for all kinds of excitement! &nbsp\;No registration is requir
 ed.</p>
URL;VALUE=URI:https://events.getlocalhop.com/curiosity-cafe/event/gMzRmTA3
 Lc/
END:VEVENT
BEGIN:VEVENT
UID:event-instance-ooZp6RzcFU@events.getlocalhop.com
SEQUENCE:0
DTSTAMP:20260422T120925Z
DTSTART:20261203T210000Z
DTEND:20261203T223000Z
SUMMARY:Curiosity Cafe
LOCATION:Jasper Public  Library\, 100 3rd Ave. Suite B Jasper\, IN 47546\,
  Programming
DESCRIPTION:<p>Teens and tweens are invited to join us for an afternoon of
  fun! &nbsp\;We rotate through different themes each week. &nbsp\;Activiti
 es include: trivia\, snacks\, games\, competitions\, relays\, and more. &n
 bsp\;Join us for all kinds of excitement! &nbsp\;No registration is requir
 ed.</p>
URL;VALUE=URI:https://events.getlocalhop.com/curiosity-cafe/event/gMzRmTA3
 Lc/
END:VEVENT
BEGIN:VEVENT
UID:event-instance-XwR7VpK5Hz@events.getlocalhop.com
SEQUENCE:0
DTSTAMP:20260422T120925Z
DTSTART:20261210T210000Z
DTEND:20261210T223000Z
SUMMARY:Curiosity Cafe
LOCATION:Jasper Public  Library\, 100 3rd Ave. Suite B Jasper\, IN 47546\,
  Programming
DESCRIPTION:<p>Teens and tweens are invited to join us for an afternoon of
  fun! &nbsp\;We rotate through different themes each week. &nbsp\;Activiti
 es include: trivia\, snacks\, games\, competitions\, relays\, and more. &n
 bsp\;Join us for all kinds of excitement! &nbsp\;No registration is requir
 ed.</p>
URL;VALUE=URI:https://events.getlocalhop.com/curiosity-cafe/event/gMzRmTA3
 Lc/
END:VEVENT
BEGIN:VEVENT
UID:event-instance-O3IdN1Htr7@events.getlocalhop.com
SEQUENCE:0
DTSTAMP:20260422T120925Z
DTSTART:20261217T210000Z
DTEND:20261217T223000Z
SUMMARY:Curiosity Cafe
LOCATION:Jasper Public  Library\, 100 3rd Ave. Suite B Jasper\, IN 47546\,
  Programming
DESCRIPTION:<p>Teens and tweens are invited to join us for an afternoon of
  fun! &nbsp\;We rotate through different themes each week. &nbsp\;Activiti
 es include: trivia\, snacks\, games\, competitions\, relays\, and more. &n
 bsp\;Join us for all kinds of excitement! &nbsp\;No registration is requir
 ed.</p>
URL;VALUE=URI:https://events.getlocalhop.com/curiosity-cafe/event/gMzRmTA3
 Lc/
END:VEVENT
END:VCALENDAR