BEGIN:VCALENDAR
VERSION:2.0
PRODID:-//events.getlocalhop.com//localhop-calendar//EN
URL:https://api.getlocalhop.com/calendar?instance=CcAkrD6LeL&series=false
BEGIN:VEVENT
UID:event-instance-CcAkrD6LeL@events.getlocalhop.com
SEQUENCE:0
DTSTAMP:20260422T120829Z
DTSTART:20260423T200000Z
DTEND:20260423T213000Z
SUMMARY:Curiosity Cafe
LOCATION:Jasper Public  Library\, 100 3rd Ave. Suite B Jasper\, IN 47546\,
  Programming
DESCRIPTION:<p>Teens and tweens are invited to join us for an afternoon of
  fun! &nbsp\;We rotate through different themes each week. &nbsp\;Activiti
 es include: trivia\, snacks\, games\, competitions\, relays\, and more. &n
 bsp\;Join us for all kinds of excitement! &nbsp\;No registration is requir
 ed.</p>
URL;VALUE=URI:https://events.getlocalhop.com/curiosity-cafe/event/gMzRmTA3
 Lc/
END:VEVENT
END:VCALENDAR