BEGIN:VCALENDAR
VERSION:2.0
PRODID:-//events.getlocalhop.com//localhop-calendar//EN
URL:https://api.getlocalhop.com/calendar?instance=CaFfAAMiPj&series=false
BEGIN:VEVENT
UID:event-instance-CaFfAAMiPj@events.getlocalhop.com
SEQUENCE:0
DTSTAMP:20260421T111102Z
DTSTART:20260323T220000Z
DTEND:20260323T230000Z
SUMMARY:Southfield Stamp Trivia Night
LOCATION:26300 Evergreen Road Southfield\, MI 48076\, Youth Program Room
DESCRIPTION:<p>Answer trivia questions about the books selected for the So
 uthfield Stamp and earn a prize!&nbsp\; AF</p>
URL;VALUE=URI:https://events.getlocalhop.com/southfield-stamp-trivia-night
 /event/eNkuDBNAF1/
END:VEVENT
END:VCALENDAR