BEGIN:VCALENDAR
VERSION:2.0
PRODID:-//events.getlocalhop.com//localhop-calendar//EN
URL:https://api.getlocalhop.com/calendar?instance=CZJ2w5iaaW&series=false
BEGIN:VEVENT
UID:event-instance-CZJ2w5iaaW@events.getlocalhop.com
SEQUENCE:0
DTSTAMP:20260421T015658Z
DTSTART:20251017T230000Z
DTEND:20251018T003000Z
SUMMARY:Grand Raven Story Slam
LOCATION:Farmington Civic Theater\, 33332 Grand River Ave Farmington\, MI 
 48336
DESCRIPTION:<p>Join us for an evening of captivating storytelling on the s
 ubject of <em>Chills and Thrills</em> inspired by the Moth Story Hour mode
 l. Share a five minute story in a welcoming and supporting atmosphere and 
 connect with storytelling enthusiasts. Whether you're there to listen or t
 ell a story\, take in the beauty of the historic Farmington Civic Theater.
  Local storyteller Emanuela DeCenso will host the evening.</p>
URL;VALUE=URI:https://events.getlocalhop.com/grand-raven-story-slam/event/
 z0jMESgdQX/
END:VEVENT
END:VCALENDAR