BEGIN:VCALENDAR
VERSION:2.0
PRODID:-//events.getlocalhop.com//localhop-calendar//EN
URL:https://api.getlocalhop.com/calendar?instance=CIIIfRfJCH&series=true
BEGIN:VEVENT
UID:event-instance-CIIIfRfJCH@events.getlocalhop.com
SEQUENCE:0
DTSTAMP:20260419T120800Z
DTSTART:20260514T143000Z
DTEND:20260514T153000Z
SUMMARY:All Abilities Story Time
LOCATION:840 W. Frank St Caro\, MI 48723
DESCRIPTION:<p>Adults and caregivers are encouraged to join this sensory s
 tory time geared towards adults with all levels of abilities\, but everyon
 e is welcome. &nbsp\;</p>\n<p>Each Storytime will center around a theme wi
 th books\, movement\, coloring pages\, and crafts that go along with it. C
 offee\, water\, and snacks will be available.</p>\n<p>For questions\, plea
 se call (989)673-4329.</p>
URL;VALUE=URI:https://events.getlocalhop.com/all-abilities-story-time/even
 t/TKN4rC5HcY/
END:VEVENT
BEGIN:VEVENT
UID:event-instance-wWyIMeQYz4@events.getlocalhop.com
SEQUENCE:0
DTSTAMP:20260419T120800Z
DTSTART:20260611T143000Z
DTEND:20260611T153000Z
SUMMARY:All Abilities Story Time
LOCATION:840 W. Frank St Caro\, MI 48723
DESCRIPTION:<p>Adults and caregivers are encouraged to join this sensory s
 tory time geared towards adults with all levels of abilities\, but everyon
 e is welcome. &nbsp\;</p>\n<p>Each Storytime will center around a theme wi
 th books\, movement\, coloring pages\, and crafts that go along with it. C
 offee\, water\, and snacks will be available.</p>\n<p>For questions\, plea
 se call (989)673-4329.</p>
URL;VALUE=URI:https://events.getlocalhop.com/all-abilities-story-time/even
 t/TKN4rC5HcY/
END:VEVENT
BEGIN:VEVENT
UID:event-instance-hyfgPli35T@events.getlocalhop.com
SEQUENCE:0
DTSTAMP:20260419T120800Z
DTSTART:20260709T143000Z
DTEND:20260709T153000Z
SUMMARY:All Abilities Story Time
LOCATION:840 W. Frank St Caro\, MI 48723
DESCRIPTION:<p>Adults and caregivers are encouraged to join this sensory s
 tory time geared towards adults with all levels of abilities\, but everyon
 e is welcome. &nbsp\;</p>\n<p>Each Storytime will center around a theme wi
 th books\, movement\, coloring pages\, and crafts that go along with it. C
 offee\, water\, and snacks will be available.</p>\n<p>For questions\, plea
 se call (989)673-4329.</p>
URL;VALUE=URI:https://events.getlocalhop.com/all-abilities-story-time/even
 t/TKN4rC5HcY/
END:VEVENT
BEGIN:VEVENT
UID:event-instance-qTZH2yf8kI@events.getlocalhop.com
SEQUENCE:0
DTSTAMP:20260419T120800Z
DTSTART:20260813T143000Z
DTEND:20260813T153000Z
SUMMARY:All Abilities Story Time
LOCATION:840 W. Frank St Caro\, MI 48723
DESCRIPTION:<p>Adults and caregivers are encouraged to join this sensory s
 tory time geared towards adults with all levels of abilities\, but everyon
 e is welcome. &nbsp\;</p>\n<p>Each Storytime will center around a theme wi
 th books\, movement\, coloring pages\, and crafts that go along with it. C
 offee\, water\, and snacks will be available.</p>\n<p>For questions\, plea
 se call (989)673-4329.</p>
URL;VALUE=URI:https://events.getlocalhop.com/all-abilities-story-time/even
 t/TKN4rC5HcY/
END:VEVENT
BEGIN:VEVENT
UID:event-instance-CpBj8mEfVY@events.getlocalhop.com
SEQUENCE:0
DTSTAMP:20260419T120800Z
DTSTART:20260910T143000Z
DTEND:20260910T153000Z
SUMMARY:All Abilities Story Time
LOCATION:840 W. Frank St Caro\, MI 48723
DESCRIPTION:<p>Adults and caregivers are encouraged to join this sensory s
 tory time geared towards adults with all levels of abilities\, but everyon
 e is welcome. &nbsp\;</p>\n<p>Each Storytime will center around a theme wi
 th books\, movement\, coloring pages\, and crafts that go along with it. C
 offee\, water\, and snacks will be available.</p>\n<p>For questions\, plea
 se call (989)673-4329.</p>
URL;VALUE=URI:https://events.getlocalhop.com/all-abilities-story-time/even
 t/TKN4rC5HcY/
END:VEVENT
BEGIN:VEVENT
UID:event-instance-E0MofWaHiC@events.getlocalhop.com
SEQUENCE:0
DTSTAMP:20260419T120800Z
DTSTART:20261008T143000Z
DTEND:20261008T153000Z
SUMMARY:All Abilities Story Time
LOCATION:840 W. Frank St Caro\, MI 48723
DESCRIPTION:<p>Adults and caregivers are encouraged to join this sensory s
 tory time geared towards adults with all levels of abilities\, but everyon
 e is welcome. &nbsp\;</p>\n<p>Each Storytime will center around a theme wi
 th books\, movement\, coloring pages\, and crafts that go along with it. C
 offee\, water\, and snacks will be available.</p>\n<p>For questions\, plea
 se call (989)673-4329.</p>
URL;VALUE=URI:https://events.getlocalhop.com/all-abilities-story-time/even
 t/TKN4rC5HcY/
END:VEVENT
BEGIN:VEVENT
UID:event-instance-p2FfFh7E29@events.getlocalhop.com
SEQUENCE:0
DTSTAMP:20260419T120800Z
DTSTART:20261112T153000Z
DTEND:20261112T163000Z
SUMMARY:All Abilities Story Time
LOCATION:840 W. Frank St Caro\, MI 48723
DESCRIPTION:<p>Adults and caregivers are encouraged to join this sensory s
 tory time geared towards adults with all levels of abilities\, but everyon
 e is welcome. &nbsp\;</p>\n<p>Each Storytime will center around a theme wi
 th books\, movement\, coloring pages\, and crafts that go along with it. C
 offee\, water\, and snacks will be available.</p>\n<p>For questions\, plea
 se call (989)673-4329.</p>
URL;VALUE=URI:https://events.getlocalhop.com/all-abilities-story-time/even
 t/TKN4rC5HcY/
END:VEVENT
BEGIN:VEVENT
UID:event-instance-sqSyoG3TjK@events.getlocalhop.com
SEQUENCE:0
DTSTAMP:20260419T120800Z
DTSTART:20261210T153000Z
DTEND:20261210T163000Z
SUMMARY:All Abilities Story Time
LOCATION:840 W. Frank St Caro\, MI 48723
DESCRIPTION:<p>Adults and caregivers are encouraged to join this sensory s
 tory time geared towards adults with all levels of abilities\, but everyon
 e is welcome. &nbsp\;</p>\n<p>Each Storytime will center around a theme wi
 th books\, movement\, coloring pages\, and crafts that go along with it. C
 offee\, water\, and snacks will be available.</p>\n<p>For questions\, plea
 se call (989)673-4329.</p>
URL;VALUE=URI:https://events.getlocalhop.com/all-abilities-story-time/even
 t/TKN4rC5HcY/
END:VEVENT
END:VCALENDAR