BEGIN:VCALENDAR
VERSION:2.0
PRODID:-//events.getlocalhop.com//localhop-calendar//EN
URL:https://api.getlocalhop.com/calendar?instance=BfRHkmvfEb&series=false
BEGIN:VEVENT
UID:event-instance-BfRHkmvfEb@events.getlocalhop.com
SEQUENCE:0
DTSTAMP:20260420T103255Z
DTSTART:20240313T220000Z
DTEND:20240313T233000Z
SUMMARY:Teen & Tween Book Club: “The First Rule of Punk” by Celia C. Pérez
LOCATION:Johnson City Public Library\, 100 West Millard Street Johnson Cit
 y\, TN 37604\, Jones Meeting Center
DESCRIPTION:<p>Ages 10-17 can join us in the Library's Jones Meeting Cente
 r on Wednesday\, March 13 at 6 p.m. to discuss &ldquo\;The First Rule of P
 unk&rdquo\; by Celia C. P&eacute\;rez\, and create their own punk rock jac
 ket patches and buttons. The first 10 teen registrants and the first 10 tw
 een registrants will receive a free copy of the book to keep. Registration
  is required.</p>
URL;VALUE=URI:https://events.getlocalhop.com/teen-and-tween-book-club-the-
 first-rule-of-punk-by-celia-c-perez/event/xEYxDoJUK7/
END:VEVENT
END:VCALENDAR