BEGIN:VCALENDAR
VERSION:2.0
PRODID:-//events.getlocalhop.com//localhop-calendar//EN
URL:https://api.getlocalhop.com/calendar?instance=BeU4WDnvGh&series=false
BEGIN:VEVENT
UID:event-instance-BeU4WDnvGh@events.getlocalhop.com
SEQUENCE:0
DTSTAMP:20260421T093706Z
DTSTART:20260526T220000Z
DTEND:20260526T230000Z
SUMMARY:Paranormal Investigation Presentation with Eric Mintel
LOCATION:Fleetwood Area Public Library\, 110 W. Arch Street Fleetwood\, PA
  19522\, Room 111
DESCRIPTION:<p>Join the Fleetwood Community for a one-hour presentation on
  paranormal investigation with Eric Mintel from \"Eric Mintel Investigates
 \" from the Pocono Television Network. Eric Mintel investigates everything
  from ghosts to Bigfoot and aliens.</p>
URL;VALUE=URI:https://events.getlocalhop.com/paranormal-investigation-pres
 entation-with-eric-mintel/event/6MyiTo840z/
END:VEVENT
END:VCALENDAR