BEGIN:VCALENDAR
VERSION:2.0
PRODID:-//events.getlocalhop.com//localhop-calendar//EN
URL:https://api.getlocalhop.com/calendar?instance=BaYcyHAZGC&series=false
BEGIN:VEVENT
UID:event-instance-BaYcyHAZGC@events.getlocalhop.com
SEQUENCE:0
DTSTAMP:20260420T102541Z
DTSTART:20260606T130000Z
DTEND:20260606T190000Z
SUMMARY:Safe Sitter Course
LOCATION:NEML's Annex (Main Room)\, 28 Century Blvd. Millerton\, NY 12546\
 , Main Room
DESCRIPTION:<p>Good babysitters: They're always in demand! Be the sitter t
 hat parents and kids want--take a Safe Sitter course!</p>\n<p>Learn everyt
 hing you need to know to be a great sitter. Gain the skills and confidence
  needed to do the job well and earn parents' trust.</p>\n<p>Open to anyone
  in grades 6 - 8. Registration Required. A fully refundable $25 deposit is
  required to hold your space. This deposit will be returned to you\, in fu
 ll\, at the completion of the course.</p>
URL;VALUE=URI:https://events.getlocalhop.com/safe-sitter-course/event/jr7B
 opS4uq/
END:VEVENT
END:VCALENDAR