BEGIN:VCALENDAR
VERSION:2.0
PRODID:-//events.getlocalhop.com//localhop-calendar//EN
URL:https://api.getlocalhop.com/calendar?instance=BIJx9Dmt7Q&series=false
BEGIN:VEVENT
UID:event-instance-BIJx9Dmt7Q@events.getlocalhop.com
SEQUENCE:0
DTSTAMP:20260422T121707Z
DTSTART:20240214T000000Z
DTEND:20240214T013000Z
SUMMARY:The Second Middle Passage: America's Domestic Slave Trade
LOCATION:Baldwin Public Library\, 300 W Merrill Birmingham\, MI 48009
DESCRIPTION:<p>In the thirty years after the Revolution\, a new type of Am
 erican slave trade rose to compete with\, eclipse\, and replace transatlan
 tic slave trade.This new slave trade took place wholly within the United S
 tates as more than a million enslaved African Americans made this massive 
 forced migration from the Upper South to work on cotton plantations in the
  Deep South. Join Dr. Richard Bell as he explores the development of this 
 domestic slave trade called the <strong>Second Middle Passage.</strong></p
 >\n<p>&nbsp\;</p>
URL;VALUE=URI:https://events.getlocalhop.com/the-second-middle-passage-ame
 ricas-domestic-slave-trade/event/b1BX39NpTd/
END:VEVENT
END:VCALENDAR