BEGIN:VCALENDAR
VERSION:2.0
PRODID:-//events.getlocalhop.com//localhop-calendar//EN
URL:https://api.getlocalhop.com/calendar?instance=AxVoFlMzwx&series=false
BEGIN:VEVENT
UID:event-instance-AxVoFlMzwx@events.getlocalhop.com
SEQUENCE:0
DTSTAMP:20260421T111457Z
DTSTART:20250510T143000Z
DTEND:20250510T160000Z
SUMMARY:Building with the Lions
LOCATION:Johnson City Public Library\, 100 West Millard Street Johnson Cit
 y\, TN 37604\, Jones Meeting Center
DESCRIPTION:<p>Families are invited to drop by the Library's Jones Meeting
  Center the second Saturday of every month between 10:30 a.m.-12 p.m. for 
 Building with the Lions. You can build creations using LEGO blocks and oth
 er construction materials. Your creations will be displayed in the Childre
 n's Library. This program is facilitated by the Johnson City Lions Club.</
 p>
URL;VALUE=URI:https://events.getlocalhop.com/building-with-the-lions/event
 /squrlpCeIh/
END:VEVENT
END:VCALENDAR