BEGIN:VCALENDAR
VERSION:2.0
PRODID:-//events.getlocalhop.com//localhop-calendar//EN
URL:https://api.getlocalhop.com/calendar?instance=Al3WzR4YKZ&series=false
BEGIN:VEVENT
UID:event-instance-Al3WzR4YKZ@events.getlocalhop.com
SEQUENCE:0
DTSTAMP:20260420T031612Z
DTSTART:20240417T153000Z
DTEND:20240417T160000Z
SUMMARY:Craft Corner: Pipe Cleaner Dinosaur
LOCATION:DeKalb Public Library\, 309 Oak Street DeKalb\, IL 60115\, Story 
 & Activity Room
DESCRIPTION:<p>At Craft Corner this week\, make an adorable dinosaur using
  colorful pipe cleaners. Have a dino-mite time as you twist and shape your
  very own prehistoric pal!</p>\n<p>&nbsp\;</p>\n<p>This craft is intended 
 for children. No registration is required.</p>\n<p>&nbsp\;</p>\n<p>For add
 itional information\, please contact Amanda at <a href=\"mailto:amandah@dk
 pl.org\" target=\"_blank\" rel=\"noopener\">amandah@dkpl.org</a> or at (81
 5) 756-9568 ext. 3301.</p>
URL;VALUE=URI:https://events.getlocalhop.com/craft-corner-pipe-cleaner-din
 osaur/event/nWTxxjbeNG/
END:VEVENT
END:VCALENDAR