BEGIN:VCALENDAR
VERSION:2.0
PRODID:-//events.getlocalhop.com//localhop-calendar//EN
URL:https://api.getlocalhop.com/calendar?instance=AdKoJ94mh0&series=false
BEGIN:VEVENT
UID:event-instance-AdKoJ94mh0@events.getlocalhop.com
SEQUENCE:0
DTSTAMP:20260420T141252Z
DTSTART:20260723T150000Z
DTEND:20260723T160000Z
SUMMARY:Redford Community Homeschoolers
LOCATION:Redford Township District Library\, 25320 W. Six Mile Rd Redford\
 , MI 48240
DESCRIPTION:<p>Come connect with a diverse group of homeschoolers! This is
  a great opportunity to meet other homeschooling families from the Redford
  community. This event is best for ages 8 &amp\; up\, but youngers are alw
 ays welcome to come and try the food\, we want everyone to feel included!<
 /p>\n<p>Registration required - please sign up once per child.&nbsp\;</p>
URL;VALUE=URI:https://events.getlocalhop.com/redford-community-homeschoole
 rs/event/1F2q7kDDLp/
END:VEVENT
END:VCALENDAR