BEGIN:VCALENDAR
VERSION:2.0
PRODID:-//events.getlocalhop.com//localhop-calendar//EN
URL:https://api.getlocalhop.com/calendar?instance=AHFZgR0NEk&series=false
BEGIN:VEVENT
UID:event-instance-AHFZgR0NEk@events.getlocalhop.com
SEQUENCE:0
DTSTAMP:20260422T121723Z
DTSTART:20240528T160000Z
DTEND:20240528T170000Z
SUMMARY:Sewing Class: Playing Card Holder
LOCATION:Johnson City Library\, 501 Nugent Ave Johnson City\, TX 78636
DESCRIPTION:<p>For this class\, we will be making playing card holders. Th
 ese are great to use with kids so they can easily hold playing cards. All 
 materials will be provided by the library.</p>
URL;VALUE=URI:https://events.getlocalhop.com/sewing-class-playing-card-hol
 der/event/jJdVJUHvF7/
END:VEVENT
END:VCALENDAR